BEGIN:VCALENDAR
VERSION:2.0
PRODID:-//Squarespace Inc/Squarespace 6//v6//EN
BEGIN:VEVENT
UID:5e4b2d462bab65763e93e6e8@squarespace.com
DTSTAMP:20200319T101522Z
DTSTART:20200328T120000Z
DTEND:20200329T140000Z
SUMMARY:Mysore - style workshop in Guildford\, Victoria
GEO:-37.149754;144.166466
LOCATION:Guildford Public Hall\, 6 Templeton St.\, Guildford\, Australia
END:VEVENT
END:VCALENDAR
